BEGIN:VCALENDAR
VERSION:2.0
PRODID:-//JazzFC - ECPv6.15.20//NONSGML v1.0//EN
CALSCALE:GREGORIAN
METHOD:PUBLISH
X-WR-CALNAME:JazzFC
X-ORIGINAL-URL:https://jazzfc.org
X-WR-CALDESC:Events for JazzFC
REFRESH-INTERVAL;VALUE=DURATION:PT1H
X-Robots-Tag:noindex
X-PUBLISHED-TTL:PT1H
BEGIN:VTIMEZONE
TZID:America/New_York
BEGIN:DAYLIGHT
TZOFFSETFROM:-0500
TZOFFSETTO:-0400
TZNAME:EDT
DTSTART:20170312T070000
END:DAYLIGHT
BEGIN:STANDARD
TZOFFSETFROM:-0400
TZOFFSETTO:-0500
TZNAME:EST
DTSTART:20171105T060000
END:STANDARD
BEGIN:DAYLIGHT
TZOFFSETFROM:-0500
TZOFFSETTO:-0400
TZNAME:EDT
DTSTART:20180311T070000
END:DAYLIGHT
BEGIN:STANDARD
TZOFFSETFROM:-0400
TZOFFSETTO:-0500
TZNAME:EST
DTSTART:20181104T060000
END:STANDARD
BEGIN:DAYLIGHT
TZOFFSETFROM:-0500
TZOFFSETTO:-0400
TZNAME:EDT
DTSTART:20190310T070000
END:DAYLIGHT
BEGIN:STANDARD
TZOFFSETFROM:-0400
TZOFFSETTO:-0500
TZNAME:EST
DTSTART:20191103T060000
END:STANDARD
BEGIN:DAYLIGHT
TZOFFSETFROM:-0500
TZOFFSETTO:-0400
TZNAME:EDT
DTSTART:20200308T070000
END:DAYLIGHT
BEGIN:STANDARD
TZOFFSETFROM:-0400
TZOFFSETTO:-0500
TZNAME:EST
DTSTART:20201101T060000
END:STANDARD
BEGIN:DAYLIGHT
TZOFFSETFROM:-0500
TZOFFSETTO:-0400
TZNAME:EDT
DTSTART:20210314T070000
END:DAYLIGHT
BEGIN:STANDARD
TZOFFSETFROM:-0400
TZOFFSETTO:-0500
TZNAME:EST
DTSTART:20211107T060000
END:STANDARD
END:VTIMEZONE
BEGIN:VEVENT
DTSTART;TZID=America/New_York:20181101T193000
DTEND;TZID=America/New_York:20181101T233000
DTSTAMP:20260419T054546
CREATED:20181011T191840Z
LAST-MODIFIED:20181011T192009Z
UID:10000010-1541100600-1541115000@jazzfc.org
SUMMARY:Melissa Newman Quartet
DESCRIPTION:With Tony Lombardozzi\, Phil Bowler and Matt Moadel
URL:https://jazzfc.org/event/melissa-newman-quartet/
LOCATION:CT
CATEGORIES:Jazz Rabbi Series
ATTACH;FMTTYPE=image/jpeg:https://jazzfc.org/wp-content/uploads/2017/09/Melissa-Newman-photo-by-Wayne-Saville-1000-e1768501937799.jpg
ORGANIZER;CN="The Jazz Rabbi":MAILTO:jazzrabbi@gregwall.com
END:VEVENT
BEGIN:VEVENT
DTSTART;TZID=America/New_York:20181108T193000
DTEND;TZID=America/New_York:20181108T233000
DTSTAMP:20260419T054547
CREATED:20181011T192736Z
LAST-MODIFIED:20181011T192736Z
UID:10000104-1541705400-1541719800@jazzfc.org
SUMMARY:Andy Laverne Quintet
DESCRIPTION:Featuring Alex Sipiagin and Harvie S.
URL:https://jazzfc.org/event/andy-laverne-quintet/
LOCATION:CT\, United States
CATEGORIES:Jazz Rabbi Series
ATTACH;FMTTYPE=image/jpeg:https://jazzfc.org/wp-content/uploads/2018/10/Andy-Laverne.jpg
ORGANIZER;CN="The Jazz Rabbi":MAILTO:jazzrabbi@gregwall.com
END:VEVENT
BEGIN:VEVENT
DTSTART;TZID=America/New_York:20181115T183000
DTEND;TZID=America/New_York:20181115T213000
DTSTAMP:20260419T054547
CREATED:20181011T193037Z
LAST-MODIFIED:20181113T035544Z
UID:10000114-1542306600-1542317400@jazzfc.org
SUMMARY:Janice Friedman Meets the Jazz Rabbi
DESCRIPTION:
URL:https://jazzfc.org/event/janice-meets-the-jazz-rabbi-2/
LOCATION:CT\, United States
CATEGORIES:Jazz Rabbi Series
ATTACH;FMTTYPE=image/gif:https://jazzfc.org/wp-content/uploads/2018/01/JF-Half-and-Half-FRONT-photo-for-printing-compressed.gif
ORGANIZER;CN="The Jazz Rabbi":MAILTO:jazzrabbi@gregwall.com
END:VEVENT
BEGIN:VEVENT
DTSTART;TZID=America/New_York:20181121T183000
DTEND;TZID=America/New_York:20181121T213000
DTSTAMP:20260419T054547
CREATED:20181016T201031Z
LAST-MODIFIED:20181113T035359Z
UID:10000113-1542825000-1542835800@jazzfc.org
SUMMARY:Jim Clark and the Chris Coogan Trio
DESCRIPTION:
URL:https://jazzfc.org/event/jim-clark-and-the-chris-coogan-trio/
LOCATION:CT\, United States
CATEGORIES:Jazz Rabbi Series
ATTACH;FMTTYPE=image/jpeg:https://jazzfc.org/wp-content/uploads/2018/10/Jim-Clark.jpg
ORGANIZER;CN="The Jazz Rabbi":MAILTO:jazzrabbi@gregwall.com
END:VEVENT
BEGIN:VEVENT
DTSTART;TZID=America/New_York:20181206T183000
DTEND;TZID=America/New_York:20181206T213000
DTSTAMP:20260419T054547
CREATED:20181106T124406Z
LAST-MODIFIED:20181113T035822Z
UID:10000112-1544121000-1544131800@jazzfc.org
SUMMARY:Portal!
DESCRIPTION:
URL:https://jazzfc.org/event/portal-2/
LOCATION:CT\, United States
CATEGORIES:Jazz Rabbi Series
ATTACH;FMTTYPE=image/jpeg:https://jazzfc.org/wp-content/uploads/2017/12/portal-phone-booth-1.jpg
ORGANIZER;CN="The Jazz Rabbi":MAILTO:jazzrabbi@gregwall.com
END:VEVENT
BEGIN:VEVENT
DTSTART;TZID=America/New_York:20181213T183000
DTEND;TZID=America/New_York:20181213T213000
DTSTAMP:20260419T054547
CREATED:20181106T125156Z
LAST-MODIFIED:20181113T035637Z
UID:10000111-1544725800-1544736600@jazzfc.org
SUMMARY:Peter Zak\, piano\, w/ Doug Weiss\, baritone sax\, Jason Tiemann\, drums\, and Greg Wall\, saxes
DESCRIPTION:
URL:https://jazzfc.org/event/peter-zak-piano-w-doug-weiss-baritone-sax-jason-tiemann-drums-and-greg-wall-saxes/
LOCATION:CT\, United States
CATEGORIES:Jazz Rabbi Series
ATTACH;FMTTYPE=image/jpeg:https://jazzfc.org/wp-content/uploads/2017/12/9.jpg
ORGANIZER;CN="The Jazz Rabbi":MAILTO:jazzrabbi@gregwall.com
END:VEVENT
BEGIN:VEVENT
DTSTART;TZID=America/New_York:20181220T183000
DTEND;TZID=America/New_York:20181220T213000
DTSTAMP:20260419T054547
CREATED:20181119T162848Z
LAST-MODIFIED:20181119T162848Z
UID:10000110-1545330600-1545341400@jazzfc.org
SUMMARY:The Magic Trombone of Art Baron
DESCRIPTION:
URL:https://jazzfc.org/event/the-magic-trombone-of-art-baron/
LOCATION:CT\, United States
CATEGORIES:Jazz Rabbi Series
ORGANIZER;CN="The Jazz Rabbi":MAILTO:jazzrabbi@gregwall.com
END:VEVENT
BEGIN:VEVENT
DTSTART;TZID=America/New_York:20181224T183000
DTEND;TZID=America/New_York:20181224T213000
DTSTAMP:20260419T054547
CREATED:20181119T163237Z
LAST-MODIFIED:20181119T163237Z
UID:10000109-1545676200-1545687000@jazzfc.org
SUMMARY:Xmas Eve w/ the Jazz Rabbi and the cleric of the keys\, "Fatha" Chris Coogan
DESCRIPTION:
URL:https://jazzfc.org/event/xmas-eve-w-the-jazz-rabbi-and-the-cleric-of-the-keys-fatha-chris-coogan/
LOCATION:CT\, United States
CATEGORIES:Jazz Rabbi Series
ATTACH;FMTTYPE=image/jpeg:https://jazzfc.org/wp-content/uploads/2017/09/Chris-Coogan.jpg
ORGANIZER;CN="The Jazz Rabbi":MAILTO:jazzrabbi@gregwall.com
END:VEVENT
BEGIN:VEVENT
DTSTART;TZID=America/New_York:20181227T183000
DTEND;TZID=America/New_York:20181227T213000
DTSTAMP:20260419T054547
CREATED:20181119T163522Z
LAST-MODIFIED:20181119T163522Z
UID:10000108-1545935400-1545946200@jazzfc.org
SUMMARY:Roberta Picket and Billy Mintz w/ Harvie S. and Greg Wall
DESCRIPTION:
URL:https://jazzfc.org/event/roberta-picket-and-billy-mintz-w-harvie-s-and-greg-wall/
LOCATION:CT\, United States
CATEGORIES:Jazz Rabbi Series
ATTACH;FMTTYPE=image/jpeg:https://jazzfc.org/wp-content/uploads/2017/09/Harvie-S-e1657211967266.jpg
ORGANIZER;CN="The Jazz Rabbi":MAILTO:jazzrabbi@gregwall.com
END:VEVENT
BEGIN:VEVENT
DTSTART;TZID=America/New_York:20190214T183000
DTEND;TZID=America/New_York:20190214T203000
DTSTAMP:20260419T054547
CREATED:20190212T173416Z
LAST-MODIFIED:20190212T173629Z
UID:10000107-1550169000-1550176200@jazzfc.org
SUMMARY:Portal Plays for Lovers\, featuring Melissa Newman
DESCRIPTION:
URL:https://jazzfc.org/event/portal-plays-for-lovers-featuring-melissa-newman/
LOCATION:CT\, United States
CATEGORIES:Jazz Rabbi Series
ORGANIZER;CN="The Jazz Rabbi":MAILTO:jazzrabbi@gregwall.com
END:VEVENT
BEGIN:VEVENT
DTSTART;TZID=America/New_York:20190221T183000
DTEND;TZID=America/New_York:20190221T203000
DTSTAMP:20260419T054547
CREATED:20190212T174251Z
LAST-MODIFIED:20190212T174526Z
UID:10000106-1550773800-1550781000@jazzfc.org
SUMMARY:Brian Charette Band
DESCRIPTION:Brian Charette \nBrian Charette - organ \nJordan Young - drums \nAndy Gravishg - trumpet \nGreg Wall - saxes
URL:https://jazzfc.org/event/brian-charette-band/
LOCATION:CT
ORGANIZER;CN="The Jazz Rabbi":MAILTO:jazzrabbi@gregwall.com
END:VEVENT
BEGIN:VEVENT
DTSTART;TZID=America/New_York:20190228T183000
DTEND;TZID=America/New_York:20190228T203000
DTSTAMP:20260419T054547
CREATED:20190212T174406Z
LAST-MODIFIED:20190212T174730Z
UID:10000019-1551378600-1551385800@jazzfc.org
SUMMARY:Janice Friedman Quartet
DESCRIPTION:Janice Friedman - piano \nJoe Fitzgerald - bass \nMatt Moadel - drums \nGreg Wall - saxes
URL:https://jazzfc.org/event/janice-friedman-quartet/
LOCATION:CT\, United States
CATEGORIES:Jazz Rabbi Series
ORGANIZER;CN="The Jazz Rabbi":MAILTO:jazzrabbi@gregwall.com
END:VEVENT
BEGIN:VEVENT
DTSTART;TZID=America/New_York:20190307T183000
DTEND;TZID=America/New_York:20190307T203000
DTSTAMP:20260419T054547
CREATED:20190212T175125Z
LAST-MODIFIED:20190307T142844Z
UID:10000011-1551983400-1551990600@jazzfc.org
SUMMARY:Michael Cochrane/Steve Johns
DESCRIPTION:Michael Cochrane - piano \nSteve Johns - drums \nPhil Bowler - bass \nGreg Wall - saxes
URL:https://jazzfc.org/event/michael-cochrane-steve-johns-2/
LOCATION:CT\, United States
ATTACH;FMTTYPE=image/jpeg:https://jazzfc.org/wp-content/uploads/2019/02/Cochrane-Johns.jpg
ORGANIZER;CN="The Jazz Rabbi":MAILTO:jazzrabbi@gregwall.com
END:VEVENT
BEGIN:VEVENT
DTSTART;TZID=America/New_York:20190321T183000
DTEND;TZID=America/New_York:20190321T220000
DTSTAMP:20260419T054547
CREATED:20190212T175948Z
LAST-MODIFIED:20190307T222358Z
UID:10000016-1553193000-1553205600@jazzfc.org
SUMMARY:The Micky Golomb Memorial Tribute Concert – with the Jazz Rabbi and the Chris Coogan Trio\, plus special guests
DESCRIPTION:Micky Golomb\, a legendary local jazz player\, and enthusiast\, and mentor to many younger players passed away Saturday night\, March 2\, 2019\, peacefully at home after a tough fight with cancer. \nThe concert will be performed by Greg Wall\, playing Micky’s Selmer SBA tenor sax\, and Chris Coogan on the famous 1937 Steinway Model M\, formerly of NYC’s Village Gate Jazz Club. Performing with Chris and Greg are bassist John Mobilio\, and drummer Jim Royle. \nSome of Micky’s bandmates and collaborators will join in during the second set. \nThe Micky Golomb Memorial Fund has been established to fund scholarships for local Fairfield County students going on to study Jazz in college or conservatory. The Fund may also fund other local jazz projects in the future. \nPlease donate to the Memorial fund here:
URL:https://jazzfc.org/event/micky-golomb-tribute/
LOCATION:CT\, United States
CATEGORIES:Jazz Rabbi Series
ATTACH;FMTTYPE=image/jpeg:https://jazzfc.org/wp-content/uploads/2019/03/Micky-Golomb-1.jpg
ORGANIZER;CN="The Jazz Rabbi":MAILTO:jazzrabbi@gregwall.com
END:VEVENT
BEGIN:VEVENT
DTSTART;TZID=America/New_York:20190328T183000
DTEND;TZID=America/New_York:20190328T203000
DTSTAMP:20260419T054547
CREATED:20190212T180314Z
LAST-MODIFIED:20190306T204216Z
UID:10000017-1553797800-1553805000@jazzfc.org
SUMMARY:Brian Torff
DESCRIPTION:
URL:https://jazzfc.org/event/brian-torff-2/
LOCATION:CT\, United States
CATEGORIES:Jazz Rabbi Series
ATTACH;FMTTYPE=image/jpeg:https://jazzfc.org/wp-content/uploads/2017/09/Brian_Torff.jpg
ORGANIZER;CN="The Jazz Rabbi":MAILTO:jazzrabbi@gregwall.com
END:VEVENT
BEGIN:VEVENT
DTSTART;TZID=America/New_York:20190411T183000
DTEND;TZID=America/New_York:20190411T213000
DTSTAMP:20260419T054547
CREATED:20190212T180455Z
LAST-MODIFIED:20190311T162439Z
UID:10000018-1555007400-1555018200@jazzfc.org
SUMMARY:Roberta Piket Qtet featuring Harvie S
DESCRIPTION:Roberta Piket - piano \nHarvie S. - bass \nGreg Wall - saxes \nBilly Mintz - drums
URL:https://jazzfc.org/event/harvie-s/
LOCATION:CT\, United States
CATEGORIES:Jazz Rabbi Series
ATTACH;FMTTYPE=image/jpeg:https://jazzfc.org/wp-content/uploads/2019/02/roberta-picket-1.jpg
ORGANIZER;CN="The Jazz Rabbi":MAILTO:jazzrabbi@gregwall.com
END:VEVENT
BEGIN:VEVENT
DTSTART;TZID=America/New_York:20190425T183000
DTEND;TZID=America/New_York:20190425T203000
DTSTAMP:20260419T054547
CREATED:20190212T181346Z
LAST-MODIFIED:20190306T204248Z
UID:10000013-1556217000-1556224200@jazzfc.org
SUMMARY:Melissa Newman
DESCRIPTION:Melissa Newman - vocals \nTony Lombardozzi - guitar \nPhil Bowler - bass \nMatt Moadel - drums
URL:https://jazzfc.org/event/melissa-newman-4/
LOCATION:CT\, United States
CATEGORIES:Jazz Rabbi Series
ATTACH;FMTTYPE=image/jpeg:https://jazzfc.org/wp-content/uploads/2017/08/Melissa-Newman-2000.jpg
ORGANIZER;CN="The Jazz Rabbi":MAILTO:jazzrabbi@gregwall.com
END:VEVENT
BEGIN:VEVENT
DTSTART;TZID=America/New_York:20190919T183000
DTEND;TZID=America/New_York:20190919T213000
DTSTAMP:20260419T054547
CREATED:20190212T180956Z
LAST-MODIFIED:20190909T222929Z
UID:10000020-1568917800-1568928600@jazzfc.org
SUMMARY:Andy LaVerne Quintet
DESCRIPTION:One of the great pianists of our time\, with an all star quintet \nAndy LaVerne - piano \nAlex Sipiagin - trumpet \nGreg Wall - saxes \nJay Anderson - bass \nJason Tiemann - drums
URL:https://jazzfc.org/event/andy-laverne-quintet-2/
LOCATION:CT\, United States
CATEGORIES:Jazz Rabbi Series
ATTACH;FMTTYPE=image/jpeg:https://jazzfc.org/wp-content/uploads/2019/02/Andy-LaVerne-yt.jpg
ORGANIZER;CN="The Jazz Rabbi":MAILTO:jazzrabbi@gregwall.com
END:VEVENT
BEGIN:VEVENT
DTSTART;TZID=America/New_York:20190926T183000
DTEND;TZID=America/New_York:20190926T213000
DTSTAMP:20260419T054547
CREATED:20180626T160837Z
LAST-MODIFIED:20190909T223527Z
UID:10000074-1569522600-1569533400@jazzfc.org
SUMMARY:Kenny Wessel\, Guitarist Extraordinaire
DESCRIPTION:Kenny Wessel\, known throughout the world for his adventurous solo voice\, unrelenting swing\, and sensitive accompaniment skills\, has become an audience favorite here at the Jazz Inferno. He and I have been playing together since the early nineties! He iOS the rare blend of tradition and fiery innovation-it doesn't get any better!\nWith Joe Fitzgerald on bass and Scott Neumann on drums\, there won't be a still foot in the joint!\nNO COVER CHARGE\,  reservations highly recommended \nKenny Wessel\nGuitar \nGreg Wall\nTenor & Soprano Sax \nJoe Fitzgerald\nBass \nScott Neumann\nDrums
URL:https://jazzfc.org/event/kenny-wessel-guitarist-extraordinaire/
LOCATION:CT
CATEGORIES:Jazz Rabbi Series
ATTACH;FMTTYPE=image/jpeg:https://jazzfc.org/wp-content/uploads/2018/06/774b54a1-fadc-44d3-84ad-5940c0f239b2.jpg
ORGANIZER;CN="The Jazz Rabbi":MAILTO:jazzrabbi@gregwall.com
END:VEVENT
BEGIN:VEVENT
DTSTART;TZID=America/New_York:20191003T183000
DTEND;TZID=America/New_York:20191003T213000
DTSTAMP:20260419T054547
CREATED:20190909T224003Z
LAST-MODIFIED:20190909T224548Z
UID:10000103-1570127400-1570138200@jazzfc.org
SUMMARY:Night of the Cookers! Andy Gravish and Joe Magnarelli
DESCRIPTION:We welcome back two of this generation's greatest horn blowers\, Andy Gravish and Joe Magnarelli\, as we pay tribute to the spontaneity and majesty of a unique moment in recorded jazz history. \nIn April of 1965 Freddie Hubbard and Lee Morgan\, two of the greatest trumpeters of their generation\, played a gig at Club La Marchal in Brooklyn\, which was recorded and released on two LP's on Blue Note Records as "The Night of the Cookers". It stands out as an example of the pure excitement than can only be generated from live jazz\, played by artists at the peak of their musical abilities. \nAndy and Joe are are the height of their powers\, and this night is sure to thrill all who are fortunate enough to get in the door! \n 
URL:https://jazzfc.org/event/night-of-the-cookers-andy-gravish-and-joe-magnarelli/
LOCATION:CT
CATEGORIES:Jazz Rabbi Series
ATTACH;FMTTYPE=image/jpeg:https://jazzfc.org/wp-content/uploads/2019/09/gravish.jpg
ORGANIZER;CN="The Jazz Rabbi":MAILTO:jazzrabbi@gregwall.com
END:VEVENT
BEGIN:VEVENT
DTSTART;TZID=America/New_York:20191010T183000
DTEND;TZID=America/New_York:20191010T213000
DTSTAMP:20260419T054547
CREATED:20190909T225423Z
LAST-MODIFIED:20190909T225423Z
UID:10000102-1570732200-1570743000@jazzfc.org
SUMMARY:Joe Farnsworth
DESCRIPTION:One of the most highly regarded jazz drummers on the scene today\, Joe Farnsworth is known for his blazing speed\, precision\, musical\, and melodic playing. Joe has been paying with Steve Davis for decades as part of the world renown jazz collective\, "One for All". \n"Over the course of many years within the wide parameters of my extended career as a professional musician and educator\, it's been only upon special occasions that I've been prompted to use the word "extraordinary" when describing a musician and his possession of special talent. Joe Farnsworth is one of these."\nBenny Golson
URL:https://jazzfc.org/event/joe-farnsworth/
LOCATION:CT
CATEGORIES:Jazz Rabbi Series
ATTACH;FMTTYPE=image/jpeg:https://jazzfc.org/wp-content/uploads/2019/09/Farnsworth-e1568069579425.jpg
ORGANIZER;CN="The Jazz Rabbi":MAILTO:jazzrabbi@gregwall.com
END:VEVENT
BEGIN:VEVENT
DTSTART;TZID=America/New_York:20200206T063000
DTEND;TZID=America/New_York:20200206T220000
DTSTAMP:20260419T054547
CREATED:20200202T221405Z
LAST-MODIFIED:20200313T004923Z
UID:10000101-1580970600-1581026400@jazzfc.org
SUMMARY:Live Recording Session featuring Andy Laverne and Company to benefit the JazzFC scholarship fund
DESCRIPTION:On Thursday night Feb 6th (snow date Feb 13) we will make Westport jazz history by recording a special night of world class jazz at Pearl at Longshore to support Jazz education. \nThe recording will feature the legendary pianist Andy LaVerne\, Seven time Grammy winning bassist Jay Anderson \, Fiery trumpeter Alex Sipiagin\, first call drummer Jason Tiemann\, and Jazz Rabbi Greg Wall on saxes. \nAll  proceeds of sales of the recording\, whether on CD\, iTunes\, or other formats\, will go directly to the Fund\, in perpetuity\, to support an annual scholarship for a deserving high school musician accepted to a college or university jazz program. \nThe CD will be sold 7 days a week at Pearl\, at every JazzFC jazz event anywhere\, and  wherever Jazz music is sold and  downloaded. \nYour contribution to help cover the costs of  producing the recording will  ensure EVERY PENNY from sales of CD's and downloads  will go directly to the scholarship fund. \nYour GoFundMe gift is 100% tax deductible\, and we welcome contributions of any amount.
URL:https://jazzfc.org/event/live-recording-session-featuring-andy-laverne-and-company-to-benefit-the-jazzfc-scholarship-fund/
LOCATION:CT
CATEGORIES:Jazz Rabbi Series
END:VEVENT
BEGIN:VEVENT
DTSTART;TZID=America/New_York:20200213T183000
DTEND;TZID=America/New_York:20200213T223000
DTSTAMP:20260419T054547
CREATED:20200202T222611Z
LAST-MODIFIED:20200202T225956Z
UID:10000100-1581618600-1581633000@jazzfc.org
SUMMARY:Andy Laverne/Greg Wall Quintet: Standard Time
DESCRIPTION:A night of classic jazz masterpieces\, played by classic jazz masters Andy Lavern\, Jay Anderson\, Alex Sipiagin\, Jason Tiemann\, and Greg Wall. \nA refreshing change of pace for this quintet\, who almost exclusively perform original music. Tonight the group will bask in the delightful waters of Monk\, Mingus\, Ellington\, Parker\, Coltrane\, Golson and much more! \nAndy Lavern\, piano \nJay Anderson\, bass \nAlex Sipiagin\, trumpet \nJason Tiemann\, drums \nGreg Wall\, saxophones
URL:https://jazzfc.org/event/andy-laverne-greg-wall-quintet-standard-time/
LOCATION:CT
CATEGORIES:Jazz Rabbi Series
END:VEVENT
BEGIN:VEVENT
DTSTART;TZID=America/New_York:20200220T183000
DTEND;TZID=America/New_York:20200220T213000
DTSTAMP:20260419T054547
CREATED:20200202T223257Z
LAST-MODIFIED:20200202T223257Z
UID:10000099-1582223400-1582234200@jazzfc.org
SUMMARY:Melissa Newman Quartet
DESCRIPTION:Melissa Newman - vocals \nTony Lombardozzi - guitar \nPhil Bowler - bass \nMatt Moadel - drums \nMelissa Newman
URL:https://jazzfc.org/event/melissa-newman-quartet-2/
LOCATION:CT
CATEGORIES:Jazz Rabbi Series
END:VEVENT
BEGIN:VEVENT
DTSTART;TZID=America/New_York:20200227T183000
DTEND;TZID=America/New_York:20200227T213000
DTSTAMP:20260419T054547
CREATED:20200202T223514Z
LAST-MODIFIED:20200202T223551Z
UID:10000098-1582828200-1582839000@jazzfc.org
SUMMARY:Chris Coogan meets the Jazz Rabbi
DESCRIPTION:  \nChris Coogan- piano \nGreg Wall- saxes \nJohn Mobilio- bass \nJim Royle- drums
URL:https://jazzfc.org/event/chris-coogan-meets-the-jazz-rabbi-2/
LOCATION:CT
CATEGORIES:Jazz Rabbi Series
END:VEVENT
BEGIN:VEVENT
DTSTART;TZID=America/New_York:20200305T183000
DTEND;TZID=America/New_York:20200305T213000
DTSTAMP:20260419T054547
CREATED:20200202T225740Z
LAST-MODIFIED:20200312T235550Z
UID:10000096-1583433000-1583443800@jazzfc.org
SUMMARY:Paul Bollenback Quartet featuring Harvie S.
DESCRIPTION:Guitar master George Benson\, a long-time supporter\, has described Paul Bollenback’s work as ". . .bona-fide playing\, unambiguous\, up-front and powerful\," calling him “a versatile dynamo on guitar. His approach to jazz and blues has a uniqueness unto itself . . ..”. \nIn 2011 Bollenback garnered a Grammy nomination for co-production on Joey DeFrancesco’s Never Can Say Goodbye (Hi Note)\, and also shares executive and co-producing credits with vocalist-composer Chris McNulty on her albums Dance Delicioso and her Whispers the Heart (Elefant Dreams). His international and national touring schedule currently include appearances with Joey DeFrancesco\, Mike LeDonne\, Jeff "Tain" Watts\, Gary Bartz\, and Shunzo Ohno\, as well as many appearances with his own trio.
URL:https://jazzfc.org/event/paul-bollenback-quartet-featuring-harvie-s/
LOCATION:CT
CATEGORIES:Jazz Rabbi Series
ATTACH;FMTTYPE=image/jpeg:https://jazzfc.org/wp-content/uploads/2020/02/32007590738_272364e4fb_b.jpg
END:VEVENT
BEGIN:VEVENT
DTSTART;TZID=America/New_York:20200312T183000
DTEND;TZID=America/New_York:20200312T223000
DTSTAMP:20260419T054547
CREATED:20200312T235202Z
LAST-MODIFIED:20200312T235225Z
UID:10000028-1584037800-1584052200@jazzfc.org
SUMMARY:Remembering McCoy Tyner featuring Janice Friedman and the Jazz Rabbi
DESCRIPTION:It's been a rough couple of weeks. The current health crisis has everyone on edge\, and fear is paralyzing many us. To top it off\, we lost one of the true giants of jazz a few days ago\, the great McCoy Tyner.\nMcCoy partnered with John Coltrane to forever change the way people play and hear the music. \nWe will celebrate McCoy's legacy while we use the healing vibrations of real jazz music to put us all in a better state of mind. Please join us. \nJanice is one of the most swinging pianists in NYC\, and she is in great company with Floody\, Hubbard\, and the Jazz Rabbi himself.
URL:https://jazzfc.org/event/remembering-mccoy-tyner-featuring-janice-friedman-and-the-jazz-rabbi/
LOCATION:CT
CATEGORIES:Fairfield County,Jazz Rabbi Series
ATTACH;FMTTYPE=image/jpeg:https://jazzfc.org/wp-content/uploads/2020/03/45db103d-dec2-46e2-b4c6-67a86e5ef1fa.jpg
ORGANIZER;CN="The Jazz Rabbi":MAILTO:jazzrabbi@gregwall.com
END:VEVENT
BEGIN:VEVENT
DTSTART;TZID=America/New_York:20200319T183000
DTEND;TZID=America/New_York:20200319T223000
DTSTAMP:20260419T054547
CREATED:20200313T000628Z
LAST-MODIFIED:20200313T000740Z
UID:10000029-1584642600-1584657000@jazzfc.org
SUMMARY:Jeff Fuller Trio
DESCRIPTION:Come hear the Jazz Rabbi join up with this fabulous trio! \nHere's what people are saying about Jeff Fuller: \n“Jeff Fuller and his trio are absolutely “happenin’ ” on his newest recording\, “Happenstance”.  Each composition and arrangement is beautifully executed by the trio\, with sophistication and modernism.  Fuller’s bass lines\, as always\, are brilliantly crafted as well as his masterful soloing. Indeed\, I thoroughly enjoyed this record! “ ~ Christian Sands\, pianist\, composer\, Christian McBride. \n  “A wonderful new release with 4 remarkable musicians… should be part of your collection… a great compilation of original selections!”  ~ Donn Trenner\, pianist\, conductor and arranger. \n   “Jeff’s really a powerful bass player… as strong\, resourceful and inspiring\, as ever.” ~ Ron McClure\, bassist\, Blood Sweat & Tears\, Charles Lloyd. \nJeff Fuller\, bass\nDarren Litzie\, piano\nBen Bilello\, drums\nGreg Wall\, saxophone
URL:https://jazzfc.org/event/jeff-fuller-trio/
LOCATION:CT
CATEGORIES:Fairfield County,Jazz Rabbi Series
ATTACH;FMTTYPE=image/jpeg:https://jazzfc.org/wp-content/uploads/2020/03/DNV4FafeTuaXesK0Tlu2_Fuller__Friends-scaled.jpg
ORGANIZER;CN="The Jazz Rabbi":MAILTO:jazzrabbi@gregwall.com
END:VEVENT
BEGIN:VEVENT
DTSTART;TZID=America/New_York:20200326T183000
DTEND;TZID=America/New_York:20200326T223000
DTSTAMP:20260419T054547
CREATED:20200313T001053Z
LAST-MODIFIED:20200313T001237Z
UID:10000030-1585247400-1585261800@jazzfc.org
SUMMARY:Michael Cochrane Experience w/ Chip Jackson\, Steve Johns and Greg Wall
DESCRIPTION:MICHAEL COCHRANE\, pianist\, composer\, arranger and instructor has resided in the tri-state area since the fall of 1974. He has performed and/or recorded with: Sonny Forturne\, Hannibal\, Jack Walrath\, Eddie Gomez\, Tom Harrell\, Paul Nash\, John Clark\, Clark Terry\, Michael Brecker\, Chico Freeman\, Ted Curson\, Oliver Lake\, Bradford Hayes\, The Spirit Of Life Ensemble and many more. Mr Cochrane has performed in Colleges\, clubs and concert halls which have included: The Village Vanguard\, Dizzy's Club Coca Cola\, The Blue Note\, Weil Recital Hall\, Carnegie Hall\, Alice Tulley Hall and Merkin Hall. His touring experience spans many European countries as well as Canada\, Japan\, Puerto Rico\, Greece\, Russia\, The Philippines and the Caribbean. \nIn 1985 Mr. Cochrane received a Master of Arts Degree in Music and Music Education with honors from New York University. He has been a part-time instructor at Princeton University\, Rutgers University\, Bloomingdale School of Music and JCC Thurnauer School of Music. His teachers have included: Jaki Byard\, Ray Santisi\, Eleanor Hancock and Madame Margaret Chaloff. Mr Cochrane has recorded over ten CDs as a leader. He has written several books of piano music and instruction which is published by Second Floor Music (distributed by Hal Leonard)\, SteepleChase\, Charles Colin and his own publishing company\, Inner Search Music. \nCochrane endorses Superscope Technologies products including digital recorders and recording software. \n 
URL:https://jazzfc.org/event/michael-cochrane-experience-w-chip-jackson-steve-johns-and-greg-wall/
LOCATION:CT
CATEGORIES:Jazz Rabbi Series
ATTACH;FMTTYPE=image/jpeg:https://jazzfc.org/wp-content/uploads/2020/03/370c2aae76f858d895498ccf01ce0760.jpg
ORGANIZER;CN="The Jazz Rabbi":MAILTO:jazzrabbi@gregwall.com
END:VEVENT
BEGIN:VEVENT
DTSTART;TZID=America/New_York:20200402T183000
DTEND;TZID=America/New_York:20200402T223000
DTSTAMP:20260419T054547
CREATED:20200313T002211Z
LAST-MODIFIED:20200313T002544Z
UID:10000026-1585852200-1585866600@jazzfc.org
SUMMARY:Sax Legend George Garzone!!
DESCRIPTION:Come hear Sax Legend George Garzone with Robert Marullo on the famous 1937 Steinway Model M Piano\, Peter Slavov on the Bass\, Joe Corsello on the Drums and Greg Wall on the Saxes. \nSimon Rentner at WBGO.org says\, "Saxophonist and educator George Garzone may not be well known outside of Boston\, but if you ask any woodwind player at the Berklee College of Music\, he’s nothing short of a jazz legend." Come hear the legend in person as he journeys down the interstate to join us at Pearl.
URL:https://jazzfc.org/event/sax-legend-george-garzone/
LOCATION:CT
CATEGORIES:Fairfield County,Jazz Rabbi Series
ATTACH;FMTTYPE=image/jpeg:https://jazzfc.org/wp-content/uploads/2020/03/george_garzonecrop.jpg
ORGANIZER;CN="The Jazz Rabbi":MAILTO:jazzrabbi@gregwall.com
END:VEVENT
END:VCALENDAR