BEGIN:VCALENDAR
VERSION:2.0
PRODID:-//JazzFC - ECPv6.15.20//NONSGML v1.0//EN
CALSCALE:GREGORIAN
METHOD:PUBLISH
X-ORIGINAL-URL:https://jazzfc.org
X-WR-CALDESC:Events for JazzFC
REFRESH-INTERVAL;VALUE=DURATION:PT1H
X-Robots-Tag:noindex
X-PUBLISHED-TTL:PT1H
BEGIN:VTIMEZONE
TZID:America/New_York
BEGIN:DAYLIGHT
TZOFFSETFROM:-0500
TZOFFSETTO:-0400
TZNAME:EDT
DTSTART:20160313T070000
END:DAYLIGHT
BEGIN:STANDARD
TZOFFSETFROM:-0400
TZOFFSETTO:-0500
TZNAME:EST
DTSTART:20161106T060000
END:STANDARD
BEGIN:DAYLIGHT
TZOFFSETFROM:-0500
TZOFFSETTO:-0400
TZNAME:EDT
DTSTART:20170312T070000
END:DAYLIGHT
BEGIN:STANDARD
TZOFFSETFROM:-0400
TZOFFSETTO:-0500
TZNAME:EST
DTSTART:20171105T060000
END:STANDARD
BEGIN:DAYLIGHT
TZOFFSETFROM:-0500
TZOFFSETTO:-0400
TZNAME:EDT
DTSTART:20180311T070000
END:DAYLIGHT
BEGIN:STANDARD
TZOFFSETFROM:-0400
TZOFFSETTO:-0500
TZNAME:EST
DTSTART:20181104T060000
END:STANDARD
END:VTIMEZONE
BEGIN:VTIMEZONE
TZID:UTC
BEGIN:STANDARD
TZOFFSETFROM:+0000
TZOFFSETTO:+0000
TZNAME:UTC
DTSTART:20160101T000000
END:STANDARD
END:VTIMEZONE
BEGIN:VEVENT
DTSTART;TZID=America/New_York:20171129T193000
DTEND;TZID=America/New_York:20171129T223000
DTSTAMP:20260421T032411
CREATED:20171114T025421Z
LAST-MODIFIED:20171114T025421Z
UID:10000041-1511983800-1511994600@jazzfc.org
SUMMARY:Melissa Newman meets the Jazz Rabbi
DESCRIPTION:
URL:https://jazzfc.org/event/melissa-newman-meets-the-jazz-rabbi/
CATEGORIES:Fairfield County,Jazz Rabbi Series
ATTACH;FMTTYPE=image/jpeg:https://jazzfc.org/wp-content/uploads/2017/09/Melissa-Newman-photo-by-Wayne-Saville-1000-e1768501937799.jpg
END:VEVENT
BEGIN:VEVENT
DTSTART;TZID=America/New_York:20171122T193000
DTEND;TZID=America/New_York:20171122T223000
DTSTAMP:20260421T032411
CREATED:20171114T025336Z
LAST-MODIFIED:20171114T025336Z
UID:10000044-1511379000-1511389800@jazzfc.org
SUMMARY:Steve Davis/Greg Wall Quintet
DESCRIPTION:
URL:https://jazzfc.org/event/steve-davisgreg-wall-quintet/
CATEGORIES:Fairfield County,Jazz Rabbi Series
ATTACH;FMTTYPE=image/jpeg:https://jazzfc.org/wp-content/uploads/2017/09/Steve_Davis_4.jpg
ORGANIZER;CN="The Jazz Rabbi":MAILTO:jazzrabbi@gregwall.com
END:VEVENT
BEGIN:VEVENT
DTSTART;TZID=America/New_York:20171115T193000
DTEND;TZID=America/New_York:20171115T210000
DTSTAMP:20260421T032411
CREATED:20171114T025143Z
LAST-MODIFIED:20171114T025143Z
UID:10000045-1510774200-1510779600@jazzfc.org
SUMMARY:Melissa Newman
DESCRIPTION:Live Jazz at Tengda \nMelissa Newman: vocals\nTony Lombardozzi: guitar\nPhil Bowler: bass
URL:https://jazzfc.org/event/melissa-newman-2/
CATEGORIES:Fairfield County
ATTACH;FMTTYPE=image/jpeg:https://jazzfc.org/wp-content/uploads/2017/09/Melissa-Newman-photo-by-Wayne-Saville-1000-e1768501937799.jpg
END:VEVENT
BEGIN:VEVENT
DTSTART;TZID=UTC:20171025T193000
DTEND;TZID=UTC:20171025T230000
DTSTAMP:20260421T032411
CREATED:20170907T005336Z
LAST-MODIFIED:20170927T235140Z
UID:10000058-1508959800-1508972400@jazzfc.org
SUMMARY:East Meets West w/ Hiroshi Yamazaki @323
DESCRIPTION:
URL:https://jazzfc.org/event/east-meets-west-w-hiroshi-yamazaki-323/
CATEGORIES:Fairfield County,Jazz Rabbi Series
ORGANIZER;CN="The Jazz Rabbi":MAILTO:jazzrabbi@gregwall.com
END:VEVENT
BEGIN:VEVENT
DTSTART;TZID=UTC:20171018T193000
DTEND;TZID=UTC:20171018T230000
DTSTAMP:20260421T032411
CREATED:20170907T005308Z
LAST-MODIFIED:20170927T235140Z
UID:10000059-1508355000-1508367600@jazzfc.org
SUMMARY:Michael Cochrane w/ Steve Johns @ 323
DESCRIPTION:
URL:https://jazzfc.org/event/michael-cochrane-w-steve-johns-323/
CATEGORIES:Fairfield County,Jazz Rabbi Series
ORGANIZER;CN="The Jazz Rabbi":MAILTO:jazzrabbi@gregwall.com
END:VEVENT
BEGIN:VEVENT
DTSTART;TZID=UTC:20171011T193000
DTEND;TZID=UTC:20171011T230000
DTSTAMP:20260421T032411
CREATED:20170907T005234Z
LAST-MODIFIED:20171009T230903Z
UID:10000060-1507750200-1507762800@jazzfc.org
SUMMARY:Brian Q. Torff Trio at 323
DESCRIPTION:Dave Childs\, piano \nBrian Torff\, bass \nGreg Burrows\, drums
URL:https://jazzfc.org/event/brian-torff-at-323/
CATEGORIES:Fairfield County,Jazz Rabbi Series
ORGANIZER;CN="The Jazz Rabbi":MAILTO:jazzrabbi@gregwall.com
END:VEVENT
BEGIN:VEVENT
DTSTART;TZID=UTC:20171004T193000
DTEND;TZID=UTC:20171004T230000
DTSTAMP:20260421T032411
CREATED:20170907T004327Z
LAST-MODIFIED:20170907T004327Z
UID:10000061-1507145400-1507158000@jazzfc.org
SUMMARY:Melissa Newman
DESCRIPTION:
URL:https://jazzfc.org/event/melissa-newman/
CATEGORIES:Fairfield County
ATTACH;FMTTYPE=image/jpeg:https://jazzfc.org/wp-content/uploads/2017/09/Melissa-Newman-photo-by-Wayne-Saville-1000-e1768501937799.jpg
ORGANIZER;CN="The Jazz Rabbi":MAILTO:jazzrabbi@gregwall.com
END:VEVENT
BEGIN:VEVENT
DTSTART;TZID=UTC:20170927T193000
DTEND;TZID=UTC:20170927T230000
DTSTAMP:20260421T032411
CREATED:20170907T003933Z
LAST-MODIFIED:20170918T140850Z
UID:10000062-1506540600-1506553200@jazzfc.org
SUMMARY:Steve Davis featuring Adam Nussbaum\, Janice Friedman and Greg Wall
DESCRIPTION:Steve Davis is widely regarded as one of today’s leading improvisers on the trombone. His lyrical\, hard-swinging style first gained him broad recognition during the 1990’s while working with the bands of jazz legends Art Blakey\, Jackie McLean\, Chick Corea’s Origin and the cooperative sextet\, One For All. Steve has appeared in Downbeat Magazine’s Reader’s and Critic’s Polls numerous times\, winning the TDWR (Rising Star) Trombone Category in 1998. Steve has also been recently nominated by The JJA four years in a row 2010-13 as Trombonist of the Year. \nRead his full bio on his artist page.
URL:https://jazzfc.org/event/steve-davis-featuring-adam-nussbaum-janice-friedman-and-greg-wall/
CATEGORIES:Fairfield County
ATTACH;FMTTYPE=image/jpeg:https://jazzfc.org/wp-content/uploads/2017/09/Steve_Davis_4.jpg
ORGANIZER;CN="The Jazz Rabbi":MAILTO:jazzrabbi@gregwall.com
END:VEVENT
BEGIN:VEVENT
DTSTART;TZID=UTC:20170924T103000
DTEND;TZID=UTC:20170924T133000
DTSTAMP:20260421T032411
CREATED:20170908T203948Z
LAST-MODIFIED:20170908T203948Z
UID:10000069-1506249000-1506259800@jazzfc.org
SUMMARY:New Haven's Jazz Brunch
DESCRIPTION:
URL:https://jazzfc.org/event/new-havens-jazz-brunch-3/
LOCATION:Elm City Market\, 777 Chapel Street\, New Haven\, CT\, 06510\, United States
CATEGORIES:Tri-State Area
GEO:41.3053699;-72.9235268
X-APPLE-STRUCTURED-LOCATION;VALUE=URI;X-ADDRESS=Elm City Market 777 Chapel Street New Haven CT 06510 United States;X-APPLE-RADIUS=500;X-TITLE=777 Chapel Street:geo:-72.9235268,41.3053699
END:VEVENT
BEGIN:VEVENT
DTSTART;TZID=UTC:20170920T193000
DTEND;TZID=UTC:20170920T230000
DTSTAMP:20260421T032411
CREATED:20170907T003857Z
LAST-MODIFIED:20170927T235140Z
UID:10000063-1505935800-1505948400@jazzfc.org
SUMMARY:Rob Henke Quartet at 323
DESCRIPTION:
URL:https://jazzfc.org/event/rob-henke-quartet-at-323/
CATEGORIES:Fairfield County,Jazz Rabbi Series
ATTACH;FMTTYPE=image/jpeg:https://jazzfc.org/wp-content/uploads/2017/09/5e3bc4915336e7823df1b210dd7e19ce-trumpets-musical-instruments.jpg
ORGANIZER;CN="The Jazz Rabbi":MAILTO:jazzrabbi@gregwall.com
END:VEVENT
BEGIN:VEVENT
DTSTART;TZID=UTC:20170917T103000
DTEND;TZID=UTC:20170917T133000
DTSTAMP:20260421T032411
CREATED:20170908T203858Z
LAST-MODIFIED:20170908T203858Z
UID:10000068-1505644200-1505655000@jazzfc.org
SUMMARY:New Haven's Jazz Brunch
DESCRIPTION:
URL:https://jazzfc.org/event/new-havens-jazz-brunch-2/
LOCATION:Elm City Market\, 777 Chapel Street\, New Haven\, CT\, 06510\, United States
CATEGORIES:Tri-State Area
GEO:41.3053699;-72.9235268
X-APPLE-STRUCTURED-LOCATION;VALUE=URI;X-ADDRESS=Elm City Market 777 Chapel Street New Haven CT 06510 United States;X-APPLE-RADIUS=500;X-TITLE=777 Chapel Street:geo:-72.9235268,41.3053699
END:VEVENT
BEGIN:VEVENT
DTSTART;TZID=UTC:20170913T193000
DTEND;TZID=UTC:20170913T210000
DTSTAMP:20260421T032411
CREATED:20170908T193024Z
LAST-MODIFIED:20170908T193024Z
UID:10000056-1505331000-1505336400@jazzfc.org
SUMMARY:Live Jazz at Tengda
DESCRIPTION:MELISSA NEWMAN: vocals\nTONY LOMBARDOZZI: guitar\nPHIL BOWLER: bass
URL:https://jazzfc.org/event/live-jazz-at-tengda/
CATEGORIES:Fairfield County
ATTACH;FMTTYPE=image/jpeg:https://jazzfc.org/wp-content/uploads/2017/09/Melissa-Newman-photo-by-Wayne-Saville-1000-e1768501937799.jpg
END:VEVENT
BEGIN:VEVENT
DTSTART;TZID=UTC:20170910T103000
DTEND;TZID=UTC:20170910T133000
DTSTAMP:20260421T032411
CREATED:20170908T203620Z
LAST-MODIFIED:20170908T203721Z
UID:10000067-1505039400-1505050200@jazzfc.org
SUMMARY:New Haven’s Jazz Brunch
DESCRIPTION:
URL:https://jazzfc.org/event/new-havens-jazz-brunch/
LOCATION:Elm City Market\, 777 Chapel Street\, New Haven\, CT\, 06510\, United States
CATEGORIES:Tri-State Area
GEO:41.3053699;-72.9235268
X-APPLE-STRUCTURED-LOCATION;VALUE=URI;X-ADDRESS=Elm City Market 777 Chapel Street New Haven CT 06510 United States;X-APPLE-RADIUS=500;X-TITLE=777 Chapel Street:geo:-72.9235268,41.3053699
END:VEVENT
BEGIN:VEVENT
DTSTART;TZID=America/New_York:20170909T190000
DTEND;TZID=America/New_York:20170909T210000
DTSTAMP:20260421T032411
CREATED:20170908T170050Z
LAST-MODIFIED:20170908T170139Z
UID:10000057-1504983600-1504990800@jazzfc.org
SUMMARY:Friday Jazz at Som Siam
DESCRIPTION:Faye Green - vocals; Michael Coppola  - 9-String Guitar  enjoy the music and the food
URL:https://jazzfc.org/event/friday-jazz-at-som-siam/
CATEGORIES:Tri-State Area
END:VEVENT
BEGIN:VEVENT
DTSTART;TZID=UTC:20170909T163000
DTEND;TZID=UTC:20170909T193000
DTSTAMP:20260421T032411
CREATED:20170908T205531Z
LAST-MODIFIED:20170908T205531Z
UID:10000050-1504974600-1504985400@jazzfc.org
SUMMARY:Jazz Jam
DESCRIPTION:First set Host’s 4tet\, then two more sets with singers and players invited to join in. Some great musicians can be expected. Sign in when you arrive.\nFREE.  Host today is Gary Grippo; Esdras Lubin; 
URL:https://jazzfc.org/event/jazz-jam/
LOCATION:Cafè Nine\, 250 State St\, New Haven\, CT\, 06510\, United States
CATEGORIES:Tri-State Area
GEO:41.3036386;-72.9238403
X-APPLE-STRUCTURED-LOCATION;VALUE=URI;X-ADDRESS=Cafè Nine 250 State St New Haven CT 06510 United States;X-APPLE-RADIUS=500;X-TITLE=250 State St:geo:-72.9238403,41.3036386
END:VEVENT
BEGIN:VEVENT
DTSTART;TZID=UTC:20170907T193000
DTEND;TZID=UTC:20170907T230000
DTSTAMP:20260421T032411
CREATED:20170907T002656Z
LAST-MODIFIED:20170927T235140Z
UID:10000064-1504812600-1504825200@jazzfc.org
SUMMARY:Harvie S.\, Bass\, featuring Mark Berman\, piano at 323
DESCRIPTION:Bassist Harvie S. has performed and recorded with Stan Getz\, Chet Baker\, Dexter Gordon\, Tony Bennett\, Ray Baretto\, Michael Brecker\, Jean Pierre Rampal\, Paquito D’Rivera\, Gil Evans\, Art Farmer\, Mark Turner\, Jim Hall\, Stefon Harris\, Billy Hart\, Lee Konitz\, Yusef Lateef\, Dave Leibman\, Joe Lovano\, Pat Metheny\, Paul Motion\, Chico O’Farrill\, Danilo Perez\, Maria Schneider\, Zoot Sims\, Toots Thielemans\, Ray Vega\, James Williams\, Phil Woods\, Louie Bellson and countless others. He can be heard on twenty albums as a leader\, fifteen as a co-leader\, and over four hundred albums as a sideman. \nPianist Mark Berman inherited his love of music and career path from his dad\, Arnold “Sonny Berman\,” a well known trumpet player and big band leader. A graduate of the Hartt School of Music in Hartford\, Connecticut\, Berman has written for\, played and recorded with the proverbial who’s who of jazz\, pop and rock. His fun to read resume reads like a history of modern music: Illinois Jacquet\, Jackie McLean (one of his former teachers\, Aretha Franklin\, Carole King\, Wycliff Gordon\, Mark Murphy\, Betty Buckley\, and many more. But\, he didn’t truly enter pop culture glory until he played piano on the world famous theme to “Sex And The City.” \nHarvie S. - bass\nMark Berman -piano\nGreg Wall - saxophones\nGreg Burrows- drums \nSets begin at 7:30 and 9:30PM\nReservations strongly recommended!
URL:https://jazzfc.org/event/harvie-s-bass-featuring-mark-berman-piano/
CATEGORIES:Fairfield County,Jazz Rabbi Series
ATTACH;FMTTYPE=image/jpeg:https://jazzfc.org/wp-content/uploads/2017/09/0a2a56ba-6dc9-413f-874f-e214dbb1dabc.jpg
ORGANIZER;CN="The Jazz Rabbi":MAILTO:jazzrabbi@gregwall.com
END:VEVENT
END:VCALENDAR